BEGIN:VCALENDAR
VERSION:2.0
PRODID:-//www.wangen-a-a.ch//NONSGML kigkonsult.se ICALCREATOR_VERSION//
CALSCALE:GREGORIAN
METHOD:PUBLISH
X-WR-TIMEZONE','EUROPE/BERLIN:
BEGIN:VEVENT
UID:20260420T000612CEST-3604No51Ca@www.wangen-a-a.ch
DTSTAMP:20260419T220612Z
DESCRIPTION:Klicken Sie auf den folgenden Link\, um weitere Informationen z
 ur Veranstaltung zu erhalten:\nhttp://www.wangen-a-a.ch/de/veranstaltungen
 /detail/detail.php?i=157
DTSTART:20260508T170000
DTEND:20260508T220000
LOCATION:Salzhaus
SUMMARY:Wangener Genussmesse 2026
END:VEVENT
END:VCALENDAR
